BEGIN:VCALENDAR
VERSION:2.0
PRODID:-//Intand Corporation//Tandem//EN
METHOD:PUBLISH
BEGIN:VEVENT
DTSTAMP:20260425T223911Z
DTSTART:20270704T010000Z
DTEND:20270704T020000Z
TRANSP:TRANSPARENT
PRIORITY:0
SUMMARY:Fireworks
LOCATION:Mt Abraham Union High School > Varsity Baseball Field
DESCRIPTION:Setup: 3:00 pm\nBreakdown: 11:00 pm\n\nGroups:\nOutside Group\
 n\nSchools:\nMt. Abraham Union High School\n\nLocation:\nMt Abraham Union 
 High School > Varsity Baseball Field\n\n
URL;VALUE=URI:https://mtabrahamunionmiddlehigh.tandem.co/index.php?type=vi
 ew&action=event&id=52184
CREATED:20260421T150942Z
LAST-MODIFIED:20260421T150942Z
UID:event-52184-mtabrahamunionmiddlehigh@intand.com
END:VEVENT
END:VCALENDAR
