BEGIN:VCALENDAR
VERSION:2.0
PRODID:-//Intand Corporation//Tandem//EN
METHOD:PUBLISH
BEGIN:VEVENT
DTSTAMP:20260422T110753Z
DTSTART:20270128T000000Z
DTEND:20270128T013000Z
TRANSP:TRANSPARENT
PRIORITY:0
SUMMARY:V BB H Enosburg
LOCATION:Mt Abraham Union High School > Gym
DESCRIPTION:Groups:\nVarsity Boys Basketball\n\nSchools:\nMt. Abraham Unio
 n High School\n\nLocation:\nMt Abraham Union High School > Gym\n\nContacts
 :\nDevin Wendel\n\n
URL;VALUE=URI:https://mtabrahamunionmiddlehigh.tandem.co/index.php?type=vi
 ew&action=event&id=52138
CREATED:20260420T142512Z
LAST-MODIFIED:20260420T142512Z
UID:event-52138-mtabrahamunionmiddlehigh@intand.com
END:VEVENT
END:VCALENDAR
