BEGIN:VCALENDAR
VERSION:2.0
PRODID:-//Intand Corporation//Tandem//EN
METHOD:PUBLISH
BEGIN:VEVENT
DTSTAMP:20260422T110929Z
DTSTART:20270114T000000Z
DTEND:20270114T013000Z
TRANSP:TRANSPARENT
PRIORITY:0
SUMMARY:V BB H Missisquoi
LOCATION:Mt Abraham Union High School > Gym
DESCRIPTION:Groups:\nVarsity Boys Basketball\n\nSchools:\nMt. Abraham Unio
 n High School\n\nLocation:\nMt Abraham Union High School > Gym\n\nContacts
 :\nDevin Wendel\n\n
URL;VALUE=URI:https://mtabrahamunionmiddlehigh.tandem.co/index.php?type=vi
 ew&action=event&id=52114
CREATED:20260420T141735Z
LAST-MODIFIED:20260420T141735Z
UID:event-52114-mtabrahamunionmiddlehigh@intand.com
END:VEVENT
END:VCALENDAR
