BEGIN:VCALENDAR
VERSION:2.0
PRODID:-//Intand Corporation//Tandem//EN
METHOD:PUBLISH
BEGIN:VEVENT
DTSTAMP:20260422T111044Z
DTSTART:20270113T000000Z
DTEND:20270113T013000Z
TRANSP:TRANSPARENT
PRIORITY:0
SUMMARY:V GBB H Missisquoi
LOCATION:Mt Abraham Union High School > Gym
DESCRIPTION:Groups:\nVarsity Girls Basketball\n\nSchools:\nMt. Abraham Uni
 on High School\n\nLocation:\nMt Abraham Union High School > Gym\n\nContact
 s:\nDevin Wendel\n\n
URL;VALUE=URI:https://mtabrahamunionmiddlehigh.tandem.co/index.php?type=vi
 ew&action=event&id=52112
CREATED:20260420T141715Z
LAST-MODIFIED:20260420T141715Z
UID:event-52112-mtabrahamunionmiddlehigh@intand.com
END:VEVENT
END:VCALENDAR
