BEGIN:VCALENDAR
VERSION:2.0
PRODID:-//Intand Corporation//Tandem//EN
METHOD:PUBLISH
BEGIN:VEVENT
DTSTAMP:20260425T195859Z
DTSTART:20260415T153000Z
DTEND:20260415T163000Z
TRANSP:TRANSPARENT
PRIORITY:0
SUMMARY:K.Reen in BES Conf. Room
LOCATION:Bristol Elementary School > Conference Room
DESCRIPTION:Schools:\nBristol Elementary School\n\nLocation:\nBristol Elem
 entary School > Conference Room\n\n
URL;VALUE=URI:https://mtabrahamunionmiddlehigh.tandem.co/index.php?type=vi
 ew&action=event&id=51991
CREATED:20260415T113717Z
LAST-MODIFIED:20260415T113717Z
UID:event-51991-mtabrahamunionmiddlehigh@intand.com
END:VEVENT
END:VCALENDAR
