BEGIN:VCALENDAR
VERSION:2.0
PRODID:-//Intand Corporation//Tandem//EN
METHOD:PUBLISH
BEGIN:VEVENT
DTSTAMP:20260425T200600Z
DTSTART:20260401T114500Z
DTEND:20260401T123000Z
TRANSP:TRANSPARENT
PRIORITY:0
SUMMARY:Murnane Open Gym
LOCATION:Bristol Elementary School > Gym
DESCRIPTION:Schools:\nBristol Elementary School\n\nLocation:\nBristol Elem
 entary School > Gym\n\n
URL;VALUE=URI:https://mtabrahamunionmiddlehigh.tandem.co/index.php?type=vi
 ew&action=event&id=46219
CREATED:20250521T141419Z
LAST-MODIFIED:20250521T141419Z
UID:event-46219-mtabrahamunionmiddlehigh@intand.com
END:VEVENT
END:VCALENDAR
